Workbook

Sheet Sheet1
A1: 仓储/电商公司：义乌昌仓进出口有限公司保税仓理货报告
A2: 核注清单号：QD292526I000090109 | C2: 二线 | G2: 商家（账册号）： | K2: 预录入号：
K3: 到货时间：年月号
A4: 项号 | B4: 中文品名 | C4: 货主料号 | D4: 条形码 | E4: 理论入库数据 | F4: 规格 | G4: 实际入库数量 | I4: 差异数量 | K4: 有效期 | L4: 批次
G5: 合格品 | H5: 残次品 | I5: 多到货 | J5: 少到货
A6: 1 | B6: ELIZABETHARDEN伊丽莎白雅顿白茶香水EDT100ML | C6: 西班牙 | D6: 085805557331 | E6: 883 | F6: 瓶
A7: 2 | B7: ELIZABETHARDEN伊丽莎白雅顿白茶香水EDT100ML简装 | C7: 西班牙 | D7: 085805557348 | E7: 200 | F7: 瓶
A8: 3 | B8: CHANEL香奈儿嘉柏丽尔香水EDP100ML | C8: 法国 | D8: 3145891205251 | E8: 47 | F8: 瓶
A9: 4 | B9: DIOR迪奥旷野男士香水EDP60ML | C9: 法国 | D9: 3348901368254 | E9: 71 | F9: 瓶
A10: 5 | B10: DIOR迪奥桀骜男士香水EDT50ML | C10: 法国 | D10: 3348901419130 | E10: 60 | F10: 瓶
A11: 6 | B11: DIOR迪奥桀骜男士香水EDT100ML | C11: 法国 | D11: 3348901419147 | E11: 72 | F11: 瓶
A12: 7 | B12: YSL圣罗兰黑鸦片香水EDP90ML | C12: 法国 | D12: 3365440787971 | E12: 421 | F12: 瓶
A13: 8 | B13: 圣罗兰自由之水香水 | C13: 法国 | D13: 3614272648418 | E13: 510 | F13: 瓶
A14: 9 | B14: YSL圣罗兰自由之水浓香香水EDP90ML | C14: 法国 | D14: 3614272648425 | E14: 261 | F14: 瓶
A15: 10 | B15: GIORGIOARMAN阿玛尼MYWAY自我无界香水EDP90ML | C15: 法国 | D15: 3614272907690 | E15: 446 | F15: 瓶
A16: 11 | B16: BURBERRY博柏利花与她果漾香水EDT30ML | C16: 西班牙 | D16: 3616301975700 | E16: 150 | F16: 瓶
A17: 12 | B17: BURBERRY博柏利花与她果漾香水EDT50ML | C17: 西班牙 | D17: 3616301975748 | E17: 150 | F17: 瓶
... A34: 29 | B34: LOEWE罗意威奇迹天光香水EDT100ML | C34: 西班牙 | D34: 8426017070393 | E34: 180 | F34: 瓶
A35: 合计 | E35: =SUM(E6:E34) -> 7889
I36: 差异合计： | J36: 0
A37: 备注： | B37: 数据单位：以向海关申报单位为准。
A38: 开始理货时间：年月日结束理货时间：年月日
A39: 理货地址：
A40: 本报告以打印版本为准，手写（或涂改）无效。

Sheet Sheet2
A1: 仓储/电商公司：义乌昌仓进出口有限公司保税仓理货报告
A2: 核注清单号：QD292526I000090109 | C2: 二线 | I2: 商家（账册号）： | M2: 预录入号：
M3: 到货时间：年月号
A4: 项号 | B4: 中文品名 | C4: 货主料号 | D4: 条形码 | E4: 理论入库数据 | F4: 规格 | I4: 实际入库数量 | K4: 差异数量 | M4: 有效期 | N4: 批次
I5: 合格品 | J5: 残次品 | K5: 多到货 | L5: 少到货
A6: 1 | B6: ELIZABETHARDEN伊丽莎白雅顿白茶香水EDT100ML | C6: 西班牙 | D6: 085805557331 | E6: 883 | F6: 瓶 | G6: ELIZABETHARDEN伊丽莎白雅顿白茶香水EDT100ML | H6: =VLOOKUP(D6,Sheet3!D:D,1,0) -> 085805557331
A7: 2 | B7: ELIZABETHARDEN伊丽莎白雅顿白茶香水EDT100ML简装 | C7: 西班牙 | D7: 085805557348 | E7: 200 | F7: 瓶 | G7: ELIZABETHARDEN伊丽莎白雅顿白茶香水EDT100ML简装 | H7: =VLOOKUP(D7,Sheet3!D:D,1,0) -> 085805557348
A8: 3 | B8: CHANEL香奈儿嘉柏丽尔香水EDP100ML | C8: 法国 | D8: 3145891205251 | E8: 47 | F8: 瓶 | G8: CHANEL香奈儿嘉柏丽尔香水EDP100ML | H8: =VLOOKUP(D8,Sheet3!D:D,1,0) -> 3145891205251
A9: 4 | B9: DIOR迪奥旷野男士香水EDP60ML | C9: 法国 | D9: 3348901368254 | E9: 71 | F9: 瓶 | G9: DIOR迪奥旷野男士香水EDP60ML | H9: =VLOOKUP(D9,Sheet3!D:D,1,0) -> 3348901368254
A10: 5 | B10: DIOR迪奥桀骜男士香水EDT50ML | C10: 法国 | D10: 3348901419130 | E10: 60 | F10: 瓶 | G10: DIOR迪奥桀骜男士香水EDT50ML | H10: =VLOOKUP(D10,Sheet3!D:D,1,0) -> 3348901419130
A11: 6 | B11: DIOR迪奥桀骜男士香水EDT100ML | C11: 法国 | D11: 3348901419147 | E11: 72 | F11: 瓶 | G11: DIOR迪奥桀骜男士香水EDT100ML | H11: =VLOOKUP(D11,Sheet3!D:D,1,0) -> 3348901419147
A12: 7 | B12: YSL圣罗兰黑鸦片香水EDP90ML | C12: 法国 | D12: 3365440787971 | E12: 421 | F12: 瓶 | G12: YSL圣罗兰黑鸦片香水EDP90ML | H12: =VLOOKUP(D12,Sheet3!D:D,1,0) -> 3365440787971
A13: 8 | B13: 圣罗兰自由之水香水 | C13: 法国 | D13: 3614272648418 | E13: 510 | F13: 瓶 | G13: 圣罗兰自由之水香水 | H13: =VLOOKUP(D13,Sheet3!D:D,1,0) -> 3614272648418
A14: 9 | B14: YSL圣罗兰自由之水浓香香水EDP90ML | C14: 法国 | D14: 3614272648425 | E14: 261 | F14: 瓶 | G14: YSL圣罗兰自由之水浓香香水EDP90ML | H14: =VLOOKUP(D14,Sheet3!D:D,1,0) -> 3614272648425
A15: 10 | B15: GIORGIOARMAN阿玛尼MYWAY自我无界香水EDP90ML | C15: 法国 | D15: 3614272907690 | E15: 446 | F15: 瓶 | G15: GIORGIOARMAN阿玛尼MYWAY自我无界香水EDP90ML | H15: =VLOOKUP(D15,Sheet3!D:D,1,0) -> 3614272907690
A16: 11 | B16: BURBERRY博柏利花与她果漾香水EDT30ML | C16: 西班牙 | D16: 3616301975700 | E16: 150 | F16: 瓶 | G16: BURBERRY博柏利花与她果漾香水EDT30ML | H16: =VLOOKUP(D16,Sheet3!D:D,1,0) -> 3616301975700
A17: 12 | B17: BURBERRY博柏利花与她果漾香水EDT50ML | C17: 西班牙 | D17: 3616301975748 | E17: 150 | F17: 瓶 | G17: BURBERRY博柏利花与她果漾香水EDT50ML | H17: =VLOOKUP(D17,Sheet3!D:D,1,0) -> 3616301975748
... A34: 29 | B34: LOEWE罗意威奇迹天光香水EDT100ML | C34: 西班牙 | D34: 8426017070393 | E34: 180 | F34: 瓶 | G34: LOEWE罗意威奇迹天光香水EDT100ML | H34: =VLOOKUP(D34,Sheet3!D:D,1,0) -> 8426017070393
A35: 合计 | E35: =SUM(E6:E34) -> 7889 | H35: =VLOOKUP(D35,Sheet3!D:D,1,0) -> #N/A
H36: =VLOOKUP(D36,Sheet3!D:D,1,0) -> #N/A | K36: 差异合计： | L36: 0
A37: 备注： | B37: 数据单位：以向海关申报单位为准。 | H37: =VLOOKUP(D37,Sheet3!D:D,1,0) -> #N/A
A38: 开始理货时间：年月日结束理货时间：年月日
A39: 理货地址： | H39: =VLOOKUP(D39,Sheet3!D:D,1,0) -> #N/A
A40: 本报告以打印版本为准，手写（或涂改）无效。

Sheet Sheet3
A1: 仓储/电商公司：义乌昌仓进出口有限公司保税仓理货报告
A2: 核注清单号：QD292526I000090109 | C2: 二线 | G2: 商家（账册号）：子鼎 | K2: 预录入号：
K3: 到货时间：20260820
A4: 项号 | B4: 中文品名 | C4: 货主料号 | D4: 条形码 | E4: 理论入库数据 | F4: 规格 | G4: 实际入库数量 | I4: 差异数量 | K4: 有效期 | L4: 批次
G5: 合格品 | H5: 残次品 | I5: 多到货 | J5: 少到货
B6: ELIZABETHARDEN伊丽莎白雅顿白茶香水EDT100ML | D6: 085805557331 | E6: 883 | H6: 1 | L6: Y25626C | M6: 膜破 | N6: 鉴定1
G7: 119 | L7: Y25626C
H8: 4 | L8: Y25808A | M8: 脏污
H9: 1 | L9: Y25808A | M9: 脏污 | N9: 鉴定1
H10: 7 | L10: Y25808A | M10: 变形
G11: 727 | L11: Y25808A
G12: 23 | L12: Y25923B
H13: 1 | L13: Y25923B | N13: 鉴定1
B14: ELIZABETHARDEN伊丽莎白雅顿白茶香水EDT100ML简装 | D14: 085805557348 | E14: 200 | H14: 1 | L14: Y25204A | M14: 条码破损 | N14: 鉴定1
H15: 2 | L15: Y25204A | M15: 条码破损
H16: 3 | L16: Y25204A | M16: 有胶
H17: 13 | L17: Y25204A | M17: 变形
G18: 181 | L18: Y25204A
B19: CHANEL香奈儿嘉柏丽尔香水EDP100ML | D19: 3145891205251 | E19: 47 | G19: 20 | K19: 2029-02-01 | L19: 2501
H20: 1 | K20: 2029-02-01 | L20: 2501 | N20: 鉴定1
H21: 1 | K21: 2029-03-01 | L21: 2601 | M21: 有标签 | N21: 鉴定1
G22: 25 | K22: 2029-03-01 | L22: 2601
B23: DIOR迪奥旷野男士香水EDP60ML | D23: 3348901368254 | E23: 71 | G23: 14 | K23: 2028-12-01 | L23: 5M03
H24: 1 | K24: 2028-12-01 | L24: 5M03 | N24: 鉴定1
H25: 2 | K25: 2029-01-01 | L25: 6A01 | M25: 膜破
G26: 28 | K26: 2029-01-01 | L26: 6A01
H27: 1 | K27: 2029-01-01 | L27: 6A01 | N27: 鉴定1
H28: 5 | K28: 2029-01-01 | L28: 6A02 | M28: 变形
H29: 1 | K29: 2029-01-01 | L29: 6A02 | M29: 变形 | N29: 鉴定1
G30: 19 | K30: 2029-01-01 | L30: 6A02
B31: DIOR迪奥桀骜男士香水EDT50ML | D31: 3348901419130 | E31: 60 | H31: 1 | K31: 2028-11-30 | L31: 5M01 | M31: 有标签 | N31: 鉴定1
G32: 59 | K32: 2028-11-30 | L32: 5M01
B33: DIOR迪奥桀骜男士香水EDT100ML | D33: 3348901419147 | E33: 72 | G33: 1 | K33: 2028-04-01 | L33: 5D02
H34: 1 | K34: 2028-04-01 | L34: 5D02 | N34: 鉴定1
G35: 69 | K35: 2028-11-30 | L35: 5M01
H36: 1 | K36: 2028-11-30 | L36: 5M01 | N36: 鉴定1
B37: YSL圣罗兰黑鸦片香水EDP90ML | D37: 3365440787971 | E37: 421 | G37: 185 | K37: 2029-01-01 | L37: 38A101R
H38: 1 | K38: 2029-01-01 | L38: 38A101R | N38: 鉴定1
H39: 1 | K39: 2025-09-01 | L39: 38W905W | N39: 鉴定1
H40: 1 | K40: 2028-10-01 | L40: 38Z0009 | M40: 有标签
H41: 1 | K41: 2028-10-01 | L41: 38Z0009 | M41: 有标签 | N41: 鉴定1
G42: 114 | K42: 2028-10-01 | L42: 38Z0009
G43: 2 | K43: 2028-02-01 | L43: 38Z22VJ
H44: 1 | K44: 2028-02-01 | L44: 38Z22VJ | N44: 鉴定1
G45: 3 | K45: 2028-02-01 | L45: 38Z24VS
H46: 1 | K46: 2028-02-01 | L46: 38Z24VS | N46: 鉴定1
G47: 1 | K47: 2028-04-01 | L47: 38Z400J
H48: 1 | K48: 2028-04-01 | L48: 38Z400J | N48: 鉴定1
G49: 11 | K49: 2028-05-01 | L49: 38Z500F
H50: 1 | K50: 2028-05-01 | L50: 38Z500F | N50: 鉴定1
H51: 1 | K51: 2028-06-01 | L51: 38Z600L | M51: 破损 | N51: 鉴定1
G52: 28 | K52: 2028-06-01 | L52: 38Z600L
H53: 1 | K53: 2028-07-01 | L53: 38Z701H | M53: 膜破 | N53: 鉴定1
G54: 62 | K54: 2028-07-01 | L54: 38Z701H
H55: 1 | K55: 2028-07-01 | L55: 38Z702M | N55: 鉴定1
G56: 3 | K56: 2028-09-01 | L56: 38Z902X
H57: 1 | K57: 2028-09-01 | L57: 38Z902X | N57: 鉴定1
B58: 圣罗兰自由之水香水 | D58: 3614272648418 | E58: 510 | G58: 509 | K58: 2029-02-01 | L58: 38A202P
H59: 1 | K59: 2029-02-01 | L59: 38A202P | N59: 鉴定1
B60: YSL圣罗兰自由之水浓香香水EDP90ML | D60: 3614272648425 | E60: 261 | G60: 17 | K60: 2028-06-01 | L60: 30Z600E
H61: 1 | K61: 2028-06-01 | L61: 30Z600E | N61: 鉴定1
H62: 2 | K62: 2029-02-01 | L62: 38A201F | M62: 变形
H63: 1 | K63: 2029-02-01 | L63: 38A201F | M63: 变形 | N63: 鉴定1
H64: 2 | K64: 2029-02-01 | L64: 38A201F | M64: 膜破
G65: 100 | K65: 2029-02-01 | L65: 38A201F
G66: 2 | K66: 2028-10-01 | L66: 38Z000G
H67: 1 | K67: 2028-10-01 | L67: 38Z000G | N67: 鉴定1
H68: 1 | K68: 2028-10-01 | L68: 38Z001C | M68: 变形 | N68: 鉴定1
G69: 28 | K69: 2028-10-01 | L69: 38Z001C
G70: 2 | K70: 2028-04-01 | L70: 38Z400G
H71: 1 | K71: 2028-04-01 | L71: 38Z400G | N71: 鉴定1
G72: 18 | K72: 2028-08-01 | L72: 38Z8019
H73: 1 | K73: 2028-08-01 | L73: 38Z8019 | N73: 鉴定1
G74: 8 | K74: 2028-08-01 | L74: 38Z802U
H75: 1 | K75: 2028-08-01 | L75: 38Z802U | N75: 鉴定1
G76: 20 | K76: 2028-09-01 | L76: 38Z9002
H77: 1 | K77: 2028-09-01 | L77: 38Z9002 | N77: 鉴定1
G78: 47 | K78: 2028-11-01 | L78: 38ZN005
H79: 1 | K79: 2028-11-01 | L79: 38ZN005 | N79: 鉴定1
G80: 5 | K80: 2028-11-01 | L80: 38ZN04U
H81: 1 | K81: 2028-11-01 | L81: 38ZN04U | N81: 鉴定1
B82: GIORGIOARMAN阿玛尼MYWAY自我无界香水EDP90ML | D82: 3614272907690 | E82: 446 | H82: 1 | K82: 2028-12-31 | L82: 38A100W | N82: 鉴定1
H83: 1 | K83: 2029-03-31 | L83: 38A41Y8 | M83: 变形
H84: 1 | K84: 2029-03-31 | L84: 38A41Y8 | M84: 无外膜 | N84: 鉴定1
G85: 408 | K85: 2029-03-31 | L85: 38A41Y8
G86: 3 | K86: 2028-11-01 | L86: 38ZN02J
H87: 1 | K87: 2028-11-01 | L87: 38ZN02J | N87: 鉴定1
H88: 11 | L88: 批次模糊漏液 | M88: 批次模糊漏液
J89: 20
D90: 3614274661729 | I90: 18 | K90: 2028-12-31 | L90: 38A1005
I91: 1 | K91: 2028-12-31 | L91: 38A1005 | N91: 鉴定1
B92: BURBERRY博柏利花与她果漾香水EDT30ML | D92: 3616301975700 | E92: 150 | H92: 1 | K92: 2028-11-27 | L92: 5331 | M92: 变形 | N92: 鉴定1
G93: 143 | K93: 2028-11-27 | L93: 5331
H94: 1 | K94: 2029-02-04 | L94: 6035 | M94: 有标签
G95: 4 | K95: 2029-02-04 | L95: 6035
H96: 1 | K96: 2029-02-04 | L96: 6035 | N96: 鉴定1
B97: BURBERRY博柏利花与她果漾香水EDT50ML | D97: 3616301975748 | E97: 150 | H97: 1 | K97: 2029-02-04 | L97: 6035 | M97: 膜破 | N97: 鉴定1
H98: 1 | K98: 2029-02-04 | L98: 6035 | M98: 有标签
G99: 148 | K99: 2029-02-04 | L99: 6035
B100: BURBERRY博柏利花与她青提软糖香水EDT100ML | D100: 3616301975755 | E100: 100 | H100: 1 | K100: 2029-02-17 | L100: 6048 | M100: 漏液
...
